Workbook

Sheet Overview
A9: All prices in EUR.
A11: AVAILABLE PCS | D11: STYLE / COLOR OPTIONS | G11: CATEGORIES | I11: TOTAL OFFER VALUE (IAM, EUR)
A12: =SUM(PRADA!$P$9:$P$911) -> 8812 | D12: =SUMPRODUCT(1/COUNTIF(PRADA!$I$9:$I$911,PRADA!$I$9:$I$911)) -> 879 | G12: =SUMPRODUCT(1/COUNTIF(PRADA!$E$9:$E$911,PRADA!$E$9:$E$911)) -> 41
A14: CATEGORY ANALYSIS
A15: Category | E15: Pcs | G15: Qty share
A16: HATS | E16: =SUMIF(PRADA!$E$9:$E$911,A16,PRADA!$P$9:$P$911) -> 1576 | G16: =IF($E$57=0,0,E16/$E$57) -> 0.17884703
A17: LACE-UP SHOES | E17: =SUMIF(PRADA!$E$9:$E$911,A17,PRADA!$P$9:$P$911) -> 1365 | G17: =IF($E$57=0,0,E17/$E$57) -> 0.15490241
A18: TOPS | E18: =SUMIF(PRADA!$E$9:$E$911,A18,PRADA!$P$9:$P$911) -> 1073 | G18: =IF($E$57=0,0,E18/$E$57) -> 0.12176577
A19: KNITWEAR | E19: =SUMIF(PRADA!$E$9:$E$911,A19,PRADA!$P$9:$P$911) -> 931 | G19: =IF($E$57=0,0,E19/$E$57) -> 0.10565138
A20: TROUSERS | E20: =SUMIF(PRADA!$E$9:$E$911,A20,PRADA!$P$9:$P$911) -> 720 | G20: =IF($E$57=0,0,E20/$E$57) -> 0.081706764
A21: SKIRTS | E21: =SUMIF(PRADA!$E$9:$E$911,A21,PRADA!$P$9:$P$911) -> 693 | G21: =IF($E$57=0,0,E21/$E$57) -> 0.07864276
A22: DRESSES | E22: =SUMIF(PRADA!$E$9:$E$911,A22,PRADA!$P$9:$P$911) -> 527 | G22: =IF($E$57=0,0,E22/$E$57) -> 0.059804812
A23: CLOTHING ACCESSORIES | E23: =SUMIF(PRADA!$E$9:$E$911,A23,PRADA!$P$9:$P$911) -> 352 | G23: =IF($E$57=0,0,E23/$E$57) -> 0.039945529
A24: KNITWEAR ACCESSORIES | E24: =SUMIF(PRADA!$E$9:$E$911,A24,PRADA!$P$9:$P$911) -> 352 | G24: =IF($E$57=0,0,E24/$E$57) -> 0.039945529
A25: JACKETS | E25: =SUMIF(PRADA!$E$9:$E$911,A25,PRADA!$P$9:$P$911) -> 191 | G25: =IF($E$57=0,0,E25/$E$57) -> 0.021674989
A26: JERSEY | E26: =SUMIF(PRADA!$E$9:$E$911,A26,PRADA!$P$9:$P$911) -> 189 | G26: =IF($E$57=0,0,E26/$E$57) -> 0.021448025
A27: SLIPPERS | E27: =SUMIF(PRADA!$E$9:$E$911,A27,PRADA!$P$9:$P$911) -> 175 | G27: =IF($E$57=0,0,E27/$E$57) -> 0.019859283
... A56: DISPLAY OBJECTS | E56: =SUMIF(PRADA!$E$9:$E$911,A56,PRADA!$P$9:$P$911) -> 1 | G56: =IF($E$57=0,0,E56/$E$57) -> 0.00011348162
A57: Total | E57: =SUM(E16:E56) -> 8812 | G57: =SUM(G16:G56) -> 1
A59: GENDER SPLIT
A60: Gender | E60: Pcs | G60: Share
A61: MEN | E61: =SUMIF(PRADA!$D$9:$D$911,A61,PRADA!$P$9:$P$911) -> 871 | G61: =IF(SUM($E$61:$E$63)=0,0,E61/SUM($E$61:$E$63)) -> 0.098842488
A62: WOMEN | E62: =SUMIF(PRADA!$D$9:$D$911,A62,PRADA!$P$9:$P$911) -> 6654 | G62: =IF(SUM($E$61:$E$63)=0,0,E62/SUM($E$61:$E$63)) -> 0.75510667
A63: UNISEX | E63: =SUMIF(PRADA!$D$9:$D$911,A63,PRADA!$P$9:$P$911) -> 1287 | G63: =IF(SUM($E$61:$E$63)=0,0,E63/SUM($E$61:$E$63)) -> 0.14605084
A65: SELECTED HIGHLIGHTS
A67: CAPPELLI | E67: CALZATURE
A68: SKU 1HC137-2FOJ-F0013 | E68: SKU 3E6447-OYQ-F0009
A70: YOUR SELECTION
A71: SELECTED PCS | E71: SELECTED VALUE (EUR)
A72: =SUM(PRADA!$S$9:$S$911) -> 0 | E72: =SUMPRODUCT(PRADA!$S$9:$S$911,PRADA!#REF!) -> #REF!
A74: How to order: enter the quantities you want only in the gold Ordered Qty column on the PRADA tab and leave every other cell unchanged — whole pieces only, up to the available quantity; blank or zero is fine.
A75: Photos are for reference only; in case of any difference, the manufacturer codes (style code / SKU) take precedence.
G77: Offer dated 25 September 2026

Sheet PRADA
P7: =SUM(P9:P911) -> 8812 | S7: =SUM(S9:S911) -> 0
A8: Photo | B8: Brand | C8: Season | D8: Gender | E8: Category | F8: Subcategory | G8: Description | H8: Style Code | I8: SKU | J8: Color | K8: Size | L8: Composition | M8: Made In | N8: Barcode | O8: HTS Code | P8: Quantity | Q8: RRP | R8: Total RRP Value | S8: Ordered Qty
B9: PRADA | D9: MEN | E9: KNITWEAR ACCESSORIES | G9: COLLO | H9: SMS194 | I9: SMS194-1WST-F0013 | J9: AZZURRO | K9: OS | L9: SINTETICI / TENCO KNIT F.5 | M9: Made in Italy | P9: 6 | Q9: 480 | R9: =P9*Q9 -> 2880
B10: PRADA | D10: MEN | E10: TROUSERS | G10: PANTALONE | H10: SPF82 | I10: SPF82-Q04-F0002 | J10: NERO | K10: OS | L10: SINTETICI / NYLON PIUMA | M10: Made in Romania | P10: 1 | Q10: 990 | R10: =P10*Q10 -> 990
B11: PRADA | D11: MEN | E11: TROUSERS | G11: PANTALONE | H11: SPG13 | I11: SPG13-1RL7-F0124 | J11: NAVY | K11: OS | L11: COTONI / VELLUTO COSTE | M11: Made in Romania | P11: 1 | Q11: 880 | R11: =P11*Q11 -> 880
B12: PRADA | D12: MEN | E12: TROUSERS | G12: PANTALONE | H12: SPG29 | I12: SPG29-1VTK-F0002 | J12: NERO | K12: OS | L12: LANE / LANA TRAVEL | M12: Made in Romania | P12: 1 | Q12: 1320 | R12: =P12*Q12 -> 1320
B13: PRADA | D13: MEN | E13: TROUSERS | G13: PANTALONE | H13: SPG30 | I13: SPG30-1R6E-F0I54 | J13: GRIGIO+NERO | K13: OS | L13: LANE / PIED DE POULE CHECK OVER PRINT | M13: Made in Italy | P13: 5 | Q13: 2200 | R13: =P13*Q13 -> 11000
B14: PRADA | D14: MEN | E14: TROUSERS | G14: PANTALONE | H14: SPG43 | I14: SPG43-1SYD-F0024 | J14: ALLUMINIO | K14: OS | L14: SINTETICI / NYLON ACTIVE | M14: Made in Romania | P14: 9 | Q14: 1210 | R14: =P14*Q14 -> 10890
B15: PRADA | D15: MEN | E15: TROUSERS | G15: PANTALONE | H15: SPG43 | I15: SPG43-1SYD-F0K74 | J15: TALCO | K15: OS | L15: SINTETICI / NYLON ACTIVE | M15: Made in Romania | P15: 5 | Q15: 1210 | R15: =P15*Q15 -> 6050
B16: PRADA | D16: MEN | E16: TROUSERS | G16: PANTALONE | H16: SPG53 | I16: SPG53-1SYI-F0024 | J16: ALLUMINIO | K16: OS | L16: SINTETICI / TELA TECNICA SKI | M16: Made in Romania | P16: 2 | Q16: 1820 | R16: =P16*Q16 -> 3640
B17: PRADA | D17: MEN | E17: TROUSERS | G17: PANTALONE | H17: SPG71 | I17: SPG71-1T2Y-F0024 | J17: ALLUMINIO | K17: OS | L17: SINTETICI / NYLON LIGHT | M17: Made in Romania | P17: 7 | Q17: 1380 | R17: =P17*Q17 -> 9660
B18: PRADA | D18: MEN | E18: TROUSERS | G18: PANTALONE | H18: SPG71 | I18: SPG71-1T2Y-F0K74 | J18: TALCO | K18: OS | L18: SINTETICI / NYLON LIGHT | M18: Made in Romania | P18: 9 | Q18: 1380 | R18: =P18*Q18 -> 12420
B19: PRADA | D19: MEN | E19: TROUSERS | G19: PANTALONE | H19: SPG71 | I19: SPG71-1T2Y-F0002 | J19: NERO | K19: OS | L19: SINTETICI / NYLON LIGHT | M19: Made in Romania | P19: 8 | Q19: 1380 | R19: =P19*Q19 -> 11040
B20: PRADA | D20: MEN | E20: TROUSERS | G20: PANTALONE | H20: SPG71 | I20: SPG71-1T2Z-F0002 | J20: NERO | K20: OS | L20: SINTETICI / BI-STRETCH LIGHT | M20: Made in Romania | P20: 10 | Q20: 1210 | R20: =P20*Q20 -> 12100
... B911: PRADA | D911: MEN | E911: KNITWEAR | G911: PANTALONE | H911: SMP30 | I911: SMP30-1YCE-F0009 | J911: BIANCO | K911: OS | L911: SINTETICI / POLYESTER F.18 | M911: Made in Italy | P911: 3 | Q911: 1210 | R911: =P911*Q911 -> 3630
G912: TOTAL | P912: =SUM(P9:P911) -> 8812 | R912: =SUM(R9:R911) -> 14430510 | S912: =SUM(S9:S911) -> 0
